Package: interacCircos Version: 1.18.0 Command: /home/biocbuild/R/R/bin/R CMD INSTALL interacCircos StartedAt: 2025-10-13 20:17:55 -0000 (Mon, 13 Oct 2025) EndedAt: 2025-10-13 20:18:40 -0000 (Mon, 13 Oct 2025) EllapsedTime: 44.4 seconds RetCode: 0 Status: OK