Package: interacCircos Version: 1.18.0 Command: /home/biocbuild/R/R/bin/R CMD build --keep-empty-dirs --no-resave-data interacCircos StartedAt: 2025-10-14 01:50:17 -0000 (Tue, 14 Oct 2025) EndedAt: 2025-10-14 01:50:27 -0000 (Tue, 14 Oct 2025) EllapsedTime: 10.0 seconds RetCode: 0 Status: OK PackageFile: interacCircos_1.18.0.tar.gz PackageFileSize: 878.7 KiB