Package: intansv Version: 1.48.0 Command: /home/biocbuild/R/R/bin/R CMD build --keep-empty-dirs --no-resave-data intansv StartedAt: 2025-10-14 01:50:09 -0000 (Tue, 14 Oct 2025) EndedAt: 2025-10-14 01:52:25 -0000 (Tue, 14 Oct 2025) EllapsedTime: 136.0 seconds RetCode: 0 Status: OK PackageFile: intansv_1.48.0.tar.gz PackageFileSize: 609.8 KiB