Package: infinityFlow Version: 1.18.0 Command: /home/biocbuild/R/R/bin/R CMD build --keep-empty-dirs --no-resave-data infinityFlow StartedAt: 2025-10-14 01:49:08 -0000 (Tue, 14 Oct 2025) EndedAt: 2025-10-14 01:53:31 -0000 (Tue, 14 Oct 2025) EllapsedTime: 263.1 seconds RetCode: 0 Status: OK PackageFile: infinityFlow_1.18.0.tar.gz PackageFileSize: 1.712 MiB