Package: infinityFlow Version: 1.18.0 Command: /Library/Frameworks/R.framework/Resources/bin/R CMD INSTALL infinityFlow StartedAt: 2025-04-21 15:10:09 -0400 (Mon, 21 Apr 2025) EndedAt: 2025-04-21 15:10:19 -0400 (Mon, 21 Apr 2025) EllapsedTime: 9.8 seconds RetCode: 0 Status: OK