Package: infinityFlow Version: 1.18.0 Command: /Library/Frameworks/R.framework/Resources/bin/R CMD INSTALL infinityFlow StartedAt: 2025-10-13 15:58:03 -0400 (Mon, 13 Oct 2025) EndedAt: 2025-10-13 15:58:27 -0400 (Mon, 13 Oct 2025) EllapsedTime: 25.0 seconds RetCode: 0 Status: OK