Package: infinityFlow Version: 1.18.0 Command: rm -rf infinityFlow.buildbin-libdir && mkdir infinityFlow.buildbin-libdir && /Users/biocbuild/BBS/utils/build-universal.sh infinityFlow_1.18.0.tar.gz /Library/Frameworks/R.framework/Resources/bin/R infinityFlow.buildbin-libdir StartedAt: 2025-10-15 18:56:10 -0400 (Wed, 15 Oct 2025) EndedAt: 2025-10-15 18:56:38 -0400 (Wed, 15 Oct 2025) EllapsedTime: 28.1 seconds RetCode: 0 Status: OK PackageFile: infinityFlow_1.18.0.tgz PackageFileSize: 1.774 MiB