Package: immunogenViewer Version: 1.2.0 Command: /home/biocbuild/bbs-3.21-bioc/R/bin/R CMD build --keep-empty-dirs --no-resave-data immunogenViewer StartedAt: 2025-10-15 18:04:12 -0400 (Wed, 15 Oct 2025) EndedAt: 2025-10-15 18:04:51 -0400 (Wed, 15 Oct 2025) EllapsedTime: 39.0 seconds RetCode: 1 Status: ERROR PackageFile: None PackageFileSize: NA