Package: immunogenViewer Version: 1.2.0 Command: /home/biocbuild/R/R/bin/R CMD build --keep-empty-dirs --no-resave-data immunogenViewer StartedAt: 2025-10-14 01:48:14 -0000 (Tue, 14 Oct 2025) EndedAt: 2025-10-14 01:48:55 -0000 (Tue, 14 Oct 2025) EllapsedTime: 41.1 seconds RetCode: 1 Status: ERROR PackageFile: None PackageFileSize: NA