Package: immunogenViewer Version: 1.2.0 Command: /Library/Frameworks/R.framework/Resources/bin/R CMD build --keep-empty-dirs --no-resave-data immunogenViewer StartedAt: 2025-10-14 02:37:39 -0400 (Tue, 14 Oct 2025) EndedAt: 2025-10-14 02:38:05 -0400 (Tue, 14 Oct 2025) EllapsedTime: 26.1 seconds RetCode: 1 Status: ERROR PackageFile: None PackageFileSize: NA