Package: imageTCGA Version: 1.0.0 Command: /home/biocbuild/R/R/bin/R CMD build --keep-empty-dirs --no-resave-data imageTCGA StartedAt: 2025-10-14 01:46:57 -0000 (Tue, 14 Oct 2025) EndedAt: 2025-10-14 01:47:17 -0000 (Tue, 14 Oct 2025) EllapsedTime: 20.0 seconds RetCode: 0 Status: OK PackageFile: imageTCGA_1.0.0.tar.gz PackageFileSize: 2.67 MiB