Package: idiogram Version: 1.84.0 Command: /home/biocbuild/R/R/bin/R CMD INSTALL idiogram StartedAt: 2025-10-13 20:44:01 -0000 (Mon, 13 Oct 2025) EndedAt: 2025-10-13 20:44:23 -0000 (Mon, 13 Oct 2025) EllapsedTime: 22.3 seconds RetCode: 0 Status: OK