Package: idiogram Version: 1.84.0 Command: /home/biocbuild/R/R/bin/R CMD build --keep-empty-dirs --no-resave-data idiogram StartedAt: 2025-10-14 01:45:31 -0000 (Tue, 14 Oct 2025) EndedAt: 2025-10-14 01:46:02 -0000 (Tue, 14 Oct 2025) EllapsedTime: 31.0 seconds RetCode: 0 Status: OK PackageFile: idiogram_1.84.0.tar.gz PackageFileSize: 1.792 MiB