Package: ideal Version: 2.2.0 Command: /home/biocbuild/bbs-3.21-bioc/R/bin/R CMD INSTALL ideal StartedAt: 2025-10-15 15:51:31 -0400 (Wed, 15 Oct 2025) EndedAt: 2025-10-15 15:52:29 -0400 (Wed, 15 Oct 2025) EllapsedTime: 57.7 seconds RetCode: 0 Status: OK