Package: iSeq Version: 1.60.0 Command: /home/biocbuild/bbs-3.21-bioc/R/bin/R CMD INSTALL iSeq StartedAt: 2025-10-15 15:02:56 -0400 (Wed, 15 Oct 2025) EndedAt: 2025-10-15 15:03:22 -0400 (Wed, 15 Oct 2025) EllapsedTime: 25.9 seconds RetCode: 0 Status: OK