Package: iSeq Version: 1.60.0 Command: /home/biocbuild/R/R/bin/R CMD INSTALL iSeq StartedAt: 2025-10-13 20:13:47 -0000 (Mon, 13 Oct 2025) EndedAt: 2025-10-13 20:14:18 -0000 (Mon, 13 Oct 2025) EllapsedTime: 31.4 seconds RetCode: 0 Status: OK