Package: iSeq Version: 1.60.0 Command: /Library/Frameworks/R.framework/Resources/bin/R CMD build --keep-empty-dirs --no-resave-data iSeq StartedAt: 2025-10-14 02:54:34 -0400 (Tue, 14 Oct 2025) EndedAt: 2025-10-14 02:55:07 -0400 (Tue, 14 Oct 2025) EllapsedTime: 33.6 seconds RetCode: 0 Status: OK PackageFile: iSeq_1.60.0.tar.gz PackageFileSize: 1.325 MiB