Package: iSEEtree Version: 1.2.0 Command: /home/biocbuild/bbs-3.21-bioc/R/bin/R CMD check --install=check:iSEEtree.install-out.txt --library=/home/biocbuild/bbs-3.21-bioc/R/site-library --timings iSEEtree_1.2.0.tar.gz StartedAt: 2025-10-16 00:22:39 -0400 (Thu, 16 Oct 2025) EndedAt: 2025-10-16 00:28:29 -0400 (Thu, 16 Oct 2025) EllapsedTime: 349.4 seconds RetCode: 0 Status: WARNINGS CheckDir: iSEEtree.Rcheck Warnings: 1