Package: iSEEtree Version: 1.2.0 Command: /home/biocbuild/bbs-3.21-bioc/R/bin/R CMD build --keep-empty-dirs --no-resave-data iSEEtree StartedAt: 2025-10-15 18:08:51 -0400 (Wed, 15 Oct 2025) EndedAt: 2025-10-15 18:10:02 -0400 (Wed, 15 Oct 2025) EllapsedTime: 71.1 seconds RetCode: 0 Status: OK PackageFile: iSEEtree_1.2.0.tar.gz PackageFileSize: 7.536 MiB