Package: iSEEtree Version: 1.2.0 Command: /home/biocbuild/R/R/bin/R CMD check --install=check:iSEEtree.install-out.txt --library=/home/biocbuild/R/R/site-library --no-vignettes --timings iSEEtree_1.2.0.tar.gz StartedAt: 2025-10-14 10:28:12 -0000 (Tue, 14 Oct 2025) EndedAt: 2025-10-14 10:35:49 -0000 (Tue, 14 Oct 2025) EllapsedTime: 457.3 seconds RetCode: 0 Status: WARNINGS CheckDir: iSEEtree.Rcheck Warnings: 1