Package: iSEEtree Version: 1.2.0 Command: /Library/Frameworks/R.framework/Resources/bin/R CMD check --install=check:iSEEtree.install-out.txt --library=/Library/Frameworks/R.framework/Resources/library --no-vignettes --timings iSEEtree_1.2.0.tar.gz StartedAt: 2025-10-15 01:25:26 -0400 (Wed, 15 Oct 2025) EndedAt: 2025-10-15 01:32:12 -0400 (Wed, 15 Oct 2025) EllapsedTime: 406.1 seconds RetCode: 0 Status: WARNINGS CheckDir: iSEEtree.Rcheck Warnings: 1