Package: iSEEpathways Version: 1.6.0 Command: /home/biocbuild/R/R/bin/R CMD INSTALL iSEEpathways StartedAt: 2025-10-13 20:38:05 -0000 (Mon, 13 Oct 2025) EndedAt: 2025-10-13 20:38:51 -0000 (Mon, 13 Oct 2025) EllapsedTime: 46.3 seconds RetCode: 0 Status: OK