Package: iSEEpathways Version: 1.6.0 Command: /home/biocbuild/R/R/bin/R CMD build --keep-empty-dirs --no-resave-data iSEEpathways StartedAt: 2025-10-14 01:53:49 -0000 (Tue, 14 Oct 2025) EndedAt: 2025-10-14 01:57:48 -0000 (Tue, 14 Oct 2025) EllapsedTime: 239.1 seconds RetCode: 0 Status: OK PackageFile: iSEEpathways_1.6.0.tar.gz PackageFileSize: 2.331 MiB