Package: iNETgrate Version: 1.6.0 Command: /home/biocbuild/bbs-3.21-bioc/R/bin/R CMD build --keep-empty-dirs --no-resave-data iNETgrate StartedAt: 2025-10-15 18:05:25 -0400 (Wed, 15 Oct 2025) EndedAt: 2025-10-15 18:09:06 -0400 (Wed, 15 Oct 2025) EllapsedTime: 221.2 seconds RetCode: 0 Status: OK PackageFile: iNETgrate_1.6.0.tar.gz PackageFileSize: 3.979 MiB