Package: iNETgrate Version: 1.6.0 Command: /Library/Frameworks/R.framework/Resources/bin/R CMD INSTALL iNETgrate StartedAt: 2025-04-21 15:31:19 -0400 (Mon, 21 Apr 2025) EndedAt: 2025-04-21 15:31:46 -0400 (Mon, 21 Apr 2025) EllapsedTime: 27.6 seconds RetCode: 0 Status: OK