Package: iNETgrate Version: 1.6.0 Command: /Library/Frameworks/R.framework/Resources/bin/R CMD INSTALL iNETgrate StartedAt: 2025-10-13 18:31:54 -0400 (Mon, 13 Oct 2025) EndedAt: 2025-10-13 18:33:09 -0400 (Mon, 13 Oct 2025) EllapsedTime: 74.9 seconds RetCode: 0 Status: OK