Package: iNETgrate Version: 1.6.0 Command: /Library/Frameworks/R.framework/Resources/bin/R CMD build --keep-empty-dirs --no-resave-data iNETgrate StartedAt: 2025-10-14 02:39:19 -0400 (Tue, 14 Oct 2025) EndedAt: 2025-10-14 02:44:27 -0400 (Tue, 14 Oct 2025) EllapsedTime: 307.4 seconds RetCode: 0 Status: OK PackageFile: iNETgrate_1.6.0.tar.gz PackageFileSize: 3.979 MiB