Package: iClusterPlus Version: 1.44.0 Command: /home/biocbuild/bbs-3.21-bioc/R/bin/R CMD INSTALL iClusterPlus StartedAt: 2025-10-15 15:01:38 -0400 (Wed, 15 Oct 2025) EndedAt: 2025-10-15 15:02:02 -0400 (Wed, 15 Oct 2025) EllapsedTime: 24.0 seconds RetCode: 0 Status: OK