Package: iClusterPlus Version: 1.44.0 Command: /home/biocbuild/bbs-3.21-bioc/R/bin/R CMD build --keep-empty-dirs --no-resave-data iClusterPlus StartedAt: 2025-10-15 18:02:38 -0400 (Wed, 15 Oct 2025) EndedAt: 2025-10-15 18:03:07 -0400 (Wed, 15 Oct 2025) EllapsedTime: 29.0 seconds RetCode: 0 Status: OK PackageFile: iClusterPlus_1.44.0.tar.gz PackageFileSize: 20.69 MiB