Package: iClusterPlus Version: 1.44.0 Command: /Library/Frameworks/R.framework/Resources/bin/R CMD INSTALL iClusterPlus StartedAt: 2025-10-13 15:05:39 -0400 (Mon, 13 Oct 2025) EndedAt: 2025-10-13 15:06:41 -0400 (Mon, 13 Oct 2025) EllapsedTime: 62.3 seconds RetCode: 0 Status: OK