Package: iClusterPlus Version: 1.44.0 Command: /Library/Frameworks/R.framework/Resources/bin/R CMD build --keep-empty-dirs --no-resave-data iClusterPlus StartedAt: 2025-10-13 19:49:59 -0400 (Mon, 13 Oct 2025) EndedAt: 2025-10-13 19:51:24 -0400 (Mon, 13 Oct 2025) EllapsedTime: 85.5 seconds RetCode: 0 Status: OK PackageFile: iClusterPlus_1.44.0.tar.gz PackageFileSize: 20.69 MiB