Package: iClusterPlus Version: 1.44.0 Command: /home/biocbuild/R/R/bin/R CMD INSTALL iClusterPlus StartedAt: 2025-10-13 20:12:21 -0000 (Mon, 13 Oct 2025) EndedAt: 2025-10-13 20:12:34 -0000 (Mon, 13 Oct 2025) EllapsedTime: 13.5 seconds RetCode: 1 Status: ERROR