Package: iClusterPlus Version: 1.44.0 Command: /home/biocbuild/R/R/bin/R CMD build --keep-empty-dirs --no-resave-data iClusterPlus StartedAt: 2025-10-14 01:44:48 -0000 (Tue, 14 Oct 2025) EndedAt: 2025-10-14 01:44:50 -0000 (Tue, 14 Oct 2025) EllapsedTime: 2.0 seconds RetCode: 1 Status: ERROR PackageFile: None PackageFileSize: NA