Package: iChip Version: 1.62.0 Command: /home/biocbuild/R/R/bin/R CMD build --keep-empty-dirs --no-resave-data iChip StartedAt: 2025-10-14 01:44:44 -0000 (Tue, 14 Oct 2025) EndedAt: 2025-10-14 01:45:34 -0000 (Tue, 14 Oct 2025) EllapsedTime: 50.0 seconds RetCode: 0 Status: OK PackageFile: iChip_1.62.0.tar.gz PackageFileSize: 1.7 MiB