Package: iCheck Version: 1.38.0 Command: /Library/Frameworks/R.framework/Resources/bin/R CMD INSTALL iCheck StartedAt: 2025-04-21 15:49:06 -0400 (Mon, 21 Apr 2025) EndedAt: 2025-04-21 15:49:45 -0400 (Mon, 21 Apr 2025) EllapsedTime: 38.8 seconds RetCode: 0 Status: OK