Package: iCheck Version: 1.38.0 Command: rm -rf iCheck.buildbin-libdir && mkdir iCheck.buildbin-libdir && /Users/biocbuild/BBS/utils/build-universal.sh iCheck_1.38.0.tar.gz /Library/Frameworks/R.framework/Resources/bin/R iCheck.buildbin-libdir StartedAt: 2025-04-22 00:50:24 -0400 (Tue, 22 Apr 2025) EndedAt: 2025-04-22 00:51:33 -0400 (Tue, 22 Apr 2025) EllapsedTime: 69.1 seconds RetCode: 0 Status: OK PackageFile: iCheck_1.38.0.tgz PackageFileSize: 775 KiB