Package: iCheck Version: 1.38.0 Command: /home/biocbuild/R/R/bin/R CMD INSTALL iCheck StartedAt: 2025-10-13 21:20:35 -0000 (Mon, 13 Oct 2025) EndedAt: 2025-10-13 21:21:42 -0000 (Mon, 13 Oct 2025) EllapsedTime: 66.9 seconds RetCode: 0 Status: OK