Package: iCheck Version: 1.38.0 Command: /home/biocbuild/R/R/bin/R CMD build --keep-empty-dirs --no-resave-data iCheck StartedAt: 2025-10-14 01:44:16 -0000 (Tue, 14 Oct 2025) EndedAt: 2025-10-14 01:45:49 -0000 (Tue, 14 Oct 2025) EllapsedTime: 93.0 seconds RetCode: 0 Status: OK PackageFile: iCheck_1.38.0.tar.gz PackageFileSize: 547.8 KiB