Package: hypergraph Version: 1.80.0 Command: /home/biocbuild/bbs-3.21-bioc/R/bin/R CMD check --install=check:hypergraph.install-out.txt --library=/home/biocbuild/bbs-3.21-bioc/R/site-library --timings hypergraph_1.80.0.tar.gz StartedAt: 2025-10-16 00:10:37 -0400 (Thu, 16 Oct 2025) EndedAt: 2025-10-16 00:11:01 -0400 (Thu, 16 Oct 2025) EllapsedTime: 24.0 seconds RetCode: 0 Status: OK CheckDir: hypergraph.Rcheck Warnings: 0