Package: hypergraph Version: 1.80.0 Command: /Library/Frameworks/R.framework/Resources/bin/R CMD build --keep-empty-dirs --no-resave-data hypergraph StartedAt: 2025-10-13 19:49:23 -0400 (Mon, 13 Oct 2025) EndedAt: 2025-10-13 19:49:26 -0400 (Mon, 13 Oct 2025) EllapsedTime: 2.3 seconds RetCode: 0 Status: OK PackageFile: hypergraph_1.80.0.tar.gz PackageFileSize: 8.275 KiB