Package: hypergraph Version: 1.80.0 Command: rm -rf hypergraph.buildbin-libdir && mkdir hypergraph.buildbin-libdir && /Users/biocbuild/BBS/utils/build-universal.sh hypergraph_1.80.0.tar.gz /Library/Frameworks/R.framework/Resources/bin/R hypergraph.buildbin-libdir StartedAt: 2025-10-14 13:44:44 -0400 (Tue, 14 Oct 2025) EndedAt: 2025-10-14 13:44:59 -0400 (Tue, 14 Oct 2025) EllapsedTime: 15.0 seconds RetCode: 0 Status: OK PackageFile: hypergraph_1.80.0.tgz PackageFileSize: 168.8 KiB