Package: hypergraph Version: 1.80.0 Command: /home/biocbuild/R/R/bin/R CMD INSTALL hypergraph StartedAt: 2025-10-13 20:25:06 -0000 (Mon, 13 Oct 2025) EndedAt: 2025-10-13 20:25:12 -0000 (Mon, 13 Oct 2025) EllapsedTime: 5.9 seconds RetCode: 0 Status: OK