Package: hypergraph Version: 1.80.0 Command: /home/biocbuild/R/R/bin/R CMD build --keep-empty-dirs --no-resave-data hypergraph StartedAt: 2025-10-14 01:43:59 -0000 (Tue, 14 Oct 2025) EndedAt: 2025-10-14 01:44:00 -0000 (Tue, 14 Oct 2025) EllapsedTime: 1.0 seconds RetCode: 0 Status: OK PackageFile: hypergraph_1.80.0.tar.gz PackageFileSize: 8.274 KiB