Package: hyperdraw Version: 1.60.0 Command: /Library/Frameworks/R.framework/Resources/bin/R CMD build --keep-empty-dirs --no-resave-data hyperdraw StartedAt: 2025-10-13 19:49:20 -0400 (Mon, 13 Oct 2025) EndedAt: 2025-10-13 19:49:45 -0400 (Mon, 13 Oct 2025) EllapsedTime: 25.3 seconds RetCode: 0 Status: OK PackageFile: hyperdraw_1.60.0.tar.gz PackageFileSize: 204.1 KiB