Package: hyperdraw Version: 1.60.0 Command: rm -rf hyperdraw.buildbin-libdir && mkdir hyperdraw.buildbin-libdir && /Users/biocbuild/BBS/utils/build-universal.sh hyperdraw_1.60.0.tar.gz /Library/Frameworks/R.framework/Resources/bin/R hyperdraw.buildbin-libdir StartedAt: 2025-10-14 13:44:40 -0400 (Tue, 14 Oct 2025) EndedAt: 2025-10-14 13:45:01 -0400 (Tue, 14 Oct 2025) EllapsedTime: 20.5 seconds RetCode: 0 Status: OK PackageFile: hyperdraw_1.60.0.tgz PackageFileSize: 390.3 KiB