Package: hyperdraw Version: 1.60.0 Command: /home/biocbuild/R/R/bin/R CMD INSTALL hyperdraw StartedAt: 2025-10-13 20:26:44 -0000 (Mon, 13 Oct 2025) EndedAt: 2025-10-13 20:26:51 -0000 (Mon, 13 Oct 2025) EllapsedTime: 6.9 seconds RetCode: 0 Status: OK