Package: hyperdraw Version: 1.60.0 Command: /Library/Frameworks/R.framework/Resources/bin/R CMD INSTALL hyperdraw StartedAt: 2025-10-13 15:40:39 -0400 (Mon, 13 Oct 2025) EndedAt: 2025-10-13 15:40:45 -0400 (Mon, 13 Oct 2025) EllapsedTime: 5.9 seconds RetCode: 0 Status: OK