Package: hyperdraw Version: 1.60.0 Command: /Library/Frameworks/R.framework/Resources/bin/R CMD build --keep-empty-dirs --no-resave-data hyperdraw StartedAt: 2025-10-14 02:26:23 -0400 (Tue, 14 Oct 2025) EndedAt: 2025-10-14 02:26:40 -0400 (Tue, 14 Oct 2025) EllapsedTime: 16.9 seconds RetCode: 0 Status: OK PackageFile: hyperdraw_1.60.0.tar.gz PackageFileSize: 204.3 KiB