Package: hmdbQuery Version: 1.28.0 Command: /home/biocbuild/bbs-3.21-bioc/R/bin/R CMD build --keep-empty-dirs --no-resave-data hmdbQuery StartedAt: 2025-10-15 18:00:30 -0400 (Wed, 15 Oct 2025) EndedAt: 2025-10-15 18:00:54 -0400 (Wed, 15 Oct 2025) EllapsedTime: 24.0 seconds RetCode: 0 Status: OK PackageFile: hmdbQuery_1.28.0.tar.gz PackageFileSize: 749.3 KiB