Package: hmdbQuery Version: 1.28.0 Command: /home/biocbuild/R/R/bin/R CMD INSTALL hmdbQuery StartedAt: 2025-10-13 20:24:37 -0000 (Mon, 13 Oct 2025) EndedAt: 2025-10-13 20:24:44 -0000 (Mon, 13 Oct 2025) EllapsedTime: 7.6 seconds RetCode: 0 Status: OK